BEGIN:VCALENDAR
VERSION:2.0
PRODID:icalendar-ruby
CALSCALE:GREGORIAN
METHOD:PUBLISH
BEGIN:VEVENT
DTSTAMP:20260425T024538Z
UID:17-468283@therising.tithelysetup8.com
DTSTART:20261025T143000Z
DTEND:20261025T160000Z
CLASS:PUBLIC
CREATED:20260424T213327
DESCRIPTION:
LAST-MODIFIED:20260424T213327
LOCATION:Rising Church | 655 N Saginaw St. Lapeer\, MI 48446
SUMMARY:Sunday Worship
URL;VALUE=URI:https://therisingchristianchurch.com/events/sunday-worship/20
 26-10-25
ATTACH;FILENAME=Sunday-Worship.jpg;FMTTYPE=image/jpeg:https://dq5pwpg1q8ru0
 .cloudfront.net/2024/07/13/00/16/35/04d5cfac-5fb3-45e4-adad-03730e7f25d2/S
 unday-Worship.jpg
END:VEVENT
END:VCALENDAR
